BEGIN:VCALENDAR
VERSION:2.0
PRODID:-//pretix//pretix.de//
BEGIN:VTIMEZONE
TZID:Europe/Zurich
BEGIN:STANDARD
DTSTART:20001029T040000
RRULE:FREQ=YEARLY;BYDAY=-1SU;BYMONTH=10
TZNAME:CET
TZOFFSETFROM:+0200
TZOFFSETTO:+0100
END:STANDARD
BEGIN:DAYLIGHT
DTSTART:20000326T030000
RRULE:FREQ=YEARLY;BYDAY=-1SU;BYMONTH=3
TZNAME:CEST
TZOFFSETFROM:+0100
TZOFFSETTO:+0200
END:DAYLIGHT
END:VTIMEZONE
BEGIN:VEVENT
UID:pretix-pmw-su2026-0@tickets.puppyhub.ch
DTSTART;TZID=Europe/Zurich:20260703T150000
DTEND;TZID=Europe/Zurich:20260705T140000
DESCRIPTION:Tickets: https://tickets.puppyhub.ch/pmw/su2026/\nOrganizer: Th
 e Puppy Hub
DTSTAMP:20260421T093039Z
LOCATION:Alpenlodge Prod\, Flums
SUMMARY:Puppy Mountain Weekend Summer 2026
END:VEVENT
BEGIN:VEVENT
UID:pretix-pmw-plts-1@tickets.puppyhub.ch
DTSTART;TZID=Europe/Zurich:20260531T150000
DTEND;TZID=Europe/Zurich:20260531T173000
DESCRIPTION:Tickets: https://tickets.puppyhub.ch/pmw/plts/1/\nAdmission: 20
 26-05-31 14:30\nOrganizer: The Puppy Hub
DTSTAMP:20260421T093039Z
LOCATION:Lasergame Schweiz GmbH\, Untere Brühlstrasse 9\, 4800 Zofingen
SUMMARY:Puppy LaserTag
END:VEVENT
END:VCALENDAR
